Package: ivygapSE Version: 1.28.0 Command: /Library/Frameworks/R.framework/Resources/bin/R CMD INSTALL ivygapSE StartedAt: 2025-02-03 18:08:33 -0500 (Mon, 03 Feb 2025) EndedAt: 2025-02-03 18:09:02 -0500 (Mon, 03 Feb 2025) EllapsedTime: 28.8 seconds RetCode: 0 Status: OK