Package: ivygapSE Version: 1.28.0 Command: /Library/Frameworks/R.framework/Resources/bin/R CMD build --keep-empty-dirs --no-resave-data ivygapSE StartedAt: 2025-02-03 19:52:29 -0500 (Mon, 03 Feb 2025) EndedAt: 2025-02-03 19:56:49 -0500 (Mon, 03 Feb 2025) EllapsedTime: 259.6 seconds RetCode: 0 Status: OK PackageFile: ivygapSE_1.28.0.tar.gz PackageFileSize: 15.35 MiB