Package: ivygapSE Version: 1.28.0 Command: chmod a+r ivygapSE -R && F:\biocbuild\bbs-3.20-bioc\R\bin\R.exe CMD build --keep-empty-dirs --no-resave-data ivygapSE StartedAt: 2025-02-03 19:59:04 -0500 (Mon, 03 Feb 2025) EndedAt: 2025-02-03 20:01:38 -0500 (Mon, 03 Feb 2025) EllapsedTime: 154.0 seconds RetCode: 0 Status: OK PackageFile: ivygapSE_1.28.0.tar.gz PackageFileSize: 15.28 MiB