Package: ivygapSE Version: 1.28.0 Command: /home/biocbuild/R/R/bin/R CMD build --keep-empty-dirs --no-resave-data ivygapSE StartedAt: 2025-02-18 00:28:58 -0000 (Tue, 18 Feb 2025) EndedAt: 2025-02-18 00:31:44 -0000 (Tue, 18 Feb 2025) EllapsedTime: 166.1 seconds RetCode: 0 Status: OK PackageFile: ivygapSE_1.28.0.tar.gz PackageFileSize: 14.88 <A href="http://en.wikipedia.org/wiki/MiB" target="_blank">MiB</A>