Package: karyoploteR Version: 1.32.0 Command: rm -rf karyoploteR.buildbin-libdir && mkdir karyoploteR.buildbin-libdir && /Users/biocbuild/BBS/utils/build-universal.sh karyoploteR_1.32.0.tar.gz /Library/Frameworks/R.framework/Resources/bin/R karyoploteR.buildbin-libdir StartedAt: 2025-02-01 15:27:53 -0500 (Sat, 01 Feb 2025) EndedAt: 2025-02-01 15:29:06 -0500 (Sat, 01 Feb 2025) EllapsedTime: 72.7 seconds RetCode: 0 Status: OK PackageFile: karyoploteR_1.32.0.tgz PackageFileSize: 2.46 MiB