Package: karyoploteR Version: 1.32.0 Command: /Library/Frameworks/R.framework/Resources/bin/R CMD INSTALL karyoploteR StartedAt: 2025-01-30 16:43:55 -0500 (Thu, 30 Jan 2025) EndedAt: 2025-01-30 16:45:02 -0500 (Thu, 30 Jan 2025) EllapsedTime: 66.3 seconds RetCode: 0 Status: OK