Package: karyoploteR Version: 1.32.0 Command: /Library/Frameworks/R.framework/Resources/bin/R CMD build --keep-empty-dirs --no-resave-data karyoploteR StartedAt: 2025-02-03 19:52:39 -0500 (Mon, 03 Feb 2025) EndedAt: 2025-02-03 19:55:47 -0500 (Mon, 03 Feb 2025) EllapsedTime: 188.0 seconds RetCode: 0 Status: OK PackageFile: karyoploteR_1.32.0.tar.gz PackageFileSize: 2.591 MiB