Package: karyoploteR Version: 1.32.0 Command: /Library/Frameworks/R.framework/Resources/bin/R CMD check --install=check:karyoploteR.install-out.txt --library=/Library/Frameworks/R.framework/Resources/library --no-vignettes --timings karyoploteR_1.32.0.tar.gz StartedAt: 2025-01-31 05:37:45 -0500 (Fri, 31 Jan 2025) EndedAt: 2025-01-31 05:55:23 -0500 (Fri, 31 Jan 2025) EllapsedTime: 1058.0 seconds RetCode: 0 Status: OK CheckDir: karyoploteR.Rcheck Warnings: 0