Package: karyoploteR Version: 1.32.0 Command: /home/biocbuild/bbs-3.20-bioc/R/bin/R CMD build --keep-empty-dirs --no-resave-data --md5 karyoploteR StartedAt: 2025-01-30 17:48:22 -0500 (Thu, 30 Jan 2025) EndedAt: 2025-01-30 17:49:45 -0500 (Thu, 30 Jan 2025) EllapsedTime: 83.1 seconds RetCode: 0 Status: OK PackageFile: karyoploteR_1.32.0.tar.gz PackageFileSize: 2.573 MiB