Package: karyoploteR Version: 1.32.0 Command: /home/biocbuild/R/R/bin/R CMD INSTALL karyoploteR StartedAt: 2025-02-03 20:56:22 -0000 (Mon, 03 Feb 2025) EndedAt: 2025-02-03 20:57:27 -0000 (Mon, 03 Feb 2025) EllapsedTime: 64.8 seconds RetCode: 0 Status: OK