Package: katdetectr Version: 1.8.0 Command: rm -rf katdetectr.buildbin-libdir && mkdir katdetectr.buildbin-libdir && F:\biocbuild\bbs-3.20-bioc\R\bin\R.exe CMD INSTALL --build --library=katdetectr.buildbin-libdir katdetectr_1.8.0.tar.gz StartedAt: 2025-02-04 08:47:06 -0500 (Tue, 04 Feb 2025) EndedAt: 2025-02-04 08:48:18 -0500 (Tue, 04 Feb 2025) EllapsedTime: 71.8 seconds RetCode: 0 Status: OK PackageFile: katdetectr_1.8.0.zip PackageFileSize: 939.8 KiB