Package: katdetectr Version: 1.8.0 Command: chmod a+r katdetectr -R && F:\biocbuild\bbs-3.20-bioc\R\bin\R.exe CMD build --keep-empty-dirs --no-resave-data katdetectr StartedAt: 2025-01-30 19:44:50 -0500 (Thu, 30 Jan 2025) EndedAt: 2025-01-30 19:46:54 -0500 (Thu, 30 Jan 2025) EllapsedTime: 123.9 seconds RetCode: 0 Status: OK PackageFile: katdetectr_1.8.0.tar.gz PackageFileSize: 602.7 KiB