Package: katdetectr Version: 1.8.0 Command: F:\biocbuild\bbs-3.20-bioc\R\bin\R.exe CMD check --no-multiarch --install=check:katdetectr.install-out.txt --library=F:\biocbuild\bbs-3.20-bioc\R\library --no-vignettes --timings katdetectr_1.8.0.tar.gz StartedAt: 2025-01-31 03:17:27 -0500 (Fri, 31 Jan 2025) EndedAt: 2025-01-31 03:23:40 -0500 (Fri, 31 Jan 2025) EllapsedTime: 372.9 seconds RetCode: 0 Status: OK CheckDir: katdetectr.Rcheck Warnings: 0