Package: katdetectr Version: 1.8.0 Command: F:\biocbuild\bbs-3.20-bioc\R\bin\R.exe CMD INSTALL katdetectr StartedAt: 2025-01-30 16:37:56 -0500 (Thu, 30 Jan 2025) EndedAt: 2025-01-30 16:38:48 -0500 (Thu, 30 Jan 2025) EllapsedTime: 51.2 seconds RetCode: 0 Status: OK