Package: katdetectr Version: 1.8.0 Command: /home/biocbuild/R/R/bin/R CMD build --keep-empty-dirs --no-resave-data katdetectr StartedAt: 2025-02-04 00:30:52 -0000 (Tue, 04 Feb 2025) EndedAt: 2025-02-04 00:32:31 -0000 (Tue, 04 Feb 2025) EllapsedTime: 99.0 seconds RetCode: 0 Status: OK PackageFile: katdetectr_1.8.0.tar.gz PackageFileSize: 763.9 KiB