Package: katdetectr
Version: 1.8.0
Command: /home/biocbuild/bbs-3.20-bioc/R/bin/R CMD check --install=check:katdetectr.install-out.txt --library=/home/biocbuild/bbs-3.20-bioc/R/site-library --timings katdetectr_1.8.0.tar.gz
StartedAt: 2024-11-20 04:55:16 -0500 (Wed, 20 Nov 2024)
EndedAt: 2024-11-20 05:00:07 -0500 (Wed, 20 Nov 2024)
EllapsedTime: 291.5 seconds
RetCode: 0
Status: OK
CheckDir: katdetectr.Rcheck
Warnings: 0