Package: kebabs Version: 1.40.0 Command: F:\biocbuild\bbs-3.20-bioc\R\bin\R.exe CMD check --no-multiarch --install=check:kebabs.install-out.txt --library=F:\biocbuild\bbs-3.20-bioc\R\library --no-vignettes --timings kebabs_1.40.0.tar.gz StartedAt: 2025-01-31 03:17:51 -0500 (Fri, 31 Jan 2025) EndedAt: 2025-01-31 03:22:51 -0500 (Fri, 31 Jan 2025) EllapsedTime: 300.0 seconds RetCode: 0 Status: OK CheckDir: kebabs.Rcheck Warnings: 0