Package: kebabs Version: 1.40.0 Command: /home/biocbuild/R/R/bin/R CMD build --keep-empty-dirs --no-resave-data kebabs StartedAt: 2025-01-31 00:30:55 -0000 (Fri, 31 Jan 2025) EndedAt: 2025-01-31 00:36:18 -0000 (Fri, 31 Jan 2025) EllapsedTime: 323.2 seconds RetCode: 0 Status: OK PackageFile: kebabs_1.40.0.tar.gz PackageFileSize: 2.25 MiB