Package: kebabs Version: 1.40.0 Command: /home/biocbuild/R/R/bin/R CMD INSTALL kebabs StartedAt: 2025-01-30 20:15:24 -0000 (Thu, 30 Jan 2025) EndedAt: 2025-01-30 20:17:50 -0000 (Thu, 30 Jan 2025) EllapsedTime: 145.4 seconds RetCode: 0 Status: OK