Package: keggorthology Version: 2.58.0 Command: /Library/Frameworks/R.framework/Resources/bin/R CMD check --install=check:keggorthology.install-out.txt --library=/Library/Frameworks/R.framework/Resources/library --no-vignettes --timings keggorthology_2.58.0.tar.gz StartedAt: 2025-02-04 23:45:36 -0500 (Tue, 04 Feb 2025) EndedAt: 2025-02-04 23:47:22 -0500 (Tue, 04 Feb 2025) EllapsedTime: 106.2 seconds RetCode: 0 Status: OK CheckDir: keggorthology.Rcheck Warnings: 0