Package: keggorthology Version: 2.58.0 Command: rm -rf keggorthology.buildbin-libdir && mkdir keggorthology.buildbin-libdir && /Users/biocbuild/BBS/utils/build-universal.sh keggorthology_2.58.0.tar.gz /Library/Frameworks/R.framework/Resources/bin/R keggorthology.buildbin-libdir StartedAt: 2025-02-04 13:15:21 -0500 (Tue, 04 Feb 2025) EndedAt: 2025-02-04 13:16:18 -0500 (Tue, 04 Feb 2025) EllapsedTime: 56.2 seconds RetCode: 0 Status: OK PackageFile: keggorthology_2.58.0.tgz PackageFileSize: 816.6 KiB