Package: keggorthology Version: 2.58.0 Command: /Library/Frameworks/R.framework/Resources/bin/R CMD INSTALL keggorthology StartedAt: 2025-02-03 15:38:56 -0500 (Mon, 03 Feb 2025) EndedAt: 2025-02-03 15:39:23 -0500 (Mon, 03 Feb 2025) EllapsedTime: 27.6 seconds RetCode: 0 Status: OK