Package: keggorthology Version: 2.58.0 Command: /home/biocbuild/bbs-3.20-bioc/R/bin/R CMD check --install=check:keggorthology.install-out.txt --library=/home/biocbuild/bbs-3.20-bioc/R/site-library --timings keggorthology_2.58.0.tar.gz StartedAt: 2025-02-03 23:35:29 -0500 (Mon, 03 Feb 2025) EndedAt: 2025-02-03 23:37:04 -0500 (Mon, 03 Feb 2025) EllapsedTime: 95.1 seconds RetCode: 0 Status: OK CheckDir: keggorthology.Rcheck Warnings: 0