Package: keggorthology Version: 2.58.0 Command: /home/biocbuild/R/R/bin/R CMD build --keep-empty-dirs --no-resave-data keggorthology StartedAt: 2025-02-04 00:31:57 -0000 (Tue, 04 Feb 2025) EndedAt: 2025-02-04 00:32:23 -0000 (Tue, 04 Feb 2025) EllapsedTime: 26.0 seconds RetCode: 0 Status: OK PackageFile: keggorthology_2.58.0.tar.gz PackageFileSize: 782.3 KiB