Package: keggorthology Version: 2.58.0 Command: /home/biocbuild/R/R/bin/R CMD check --install=check:keggorthology.install-out.txt --library=/home/biocbuild/R/R/site-library --no-vignettes --timings keggorthology_2.58.0.tar.gz StartedAt: 2025-02-04 08:16:20 -0000 (Tue, 04 Feb 2025) EndedAt: 2025-02-04 08:18:08 -0000 (Tue, 04 Feb 2025) EllapsedTime: 108.1 seconds RetCode: 0 Status: OK CheckDir: keggorthology.Rcheck Warnings: 0