Package: keggorthology Version: 2.58.0 Command: /home/biocbuild/R/R/bin/R CMD INSTALL keggorthology StartedAt: 2025-02-03 20:39:09 -0000 (Mon, 03 Feb 2025) EndedAt: 2025-02-03 20:39:25 -0000 (Mon, 03 Feb 2025) EllapsedTime: 16.6 seconds RetCode: 0 Status: OK