Package: kissDE Version: 1.26.0 Command: rm -rf kissDE.buildbin-libdir && mkdir kissDE.buildbin-libdir && /Users/biocbuild/BBS/utils/build-universal.sh kissDE_1.26.0.tar.gz /Library/Frameworks/R.framework/Resources/bin/R kissDE.buildbin-libdir StartedAt: 2025-02-04 13:15:48 -0500 (Tue, 04 Feb 2025) EndedAt: 2025-02-04 13:18:27 -0500 (Tue, 04 Feb 2025) EllapsedTime: 159.1 seconds RetCode: 0 Status: OK PackageFile: kissDE_1.26.0.tgz PackageFileSize: 774.4 KiB