Package: kissDE Version: 1.26.0 Command: /home/biocbuild/bbs-3.20-bioc/R/bin/R CMD check --install=check:kissDE.install-out.txt --library=/home/biocbuild/bbs-3.20-bioc/R/site-library --timings kissDE_1.26.0.tar.gz StartedAt: 2025-02-03 23:35:39 -0500 (Mon, 03 Feb 2025) EndedAt: 2025-02-03 23:43:02 -0500 (Mon, 03 Feb 2025) EllapsedTime: 443.7 seconds RetCode: 0 Status: OK CheckDir: kissDE.Rcheck Warnings: 0