Package: kissDE Version: 1.26.0 Command: /home/biocbuild/bbs-3.20-bioc/R/bin/R CMD INSTALL kissDE StartedAt: 2025-02-03 16:09:06 -0500 (Mon, 03 Feb 2025) EndedAt: 2025-02-03 16:09:58 -0500 (Mon, 03 Feb 2025) EllapsedTime: 52.0 seconds RetCode: 0 Status: OK