Package: kissDE
Version: 1.25.0
Command: chmod a+r kissDE -R && C:\Users\biocbuild\bbs-3.20-bioc\R\bin\R.exe CMD build --keep-empty-dirs --no-resave-data kissDE
StartedAt: 2024-07-15 18:48:18 -0400 (Mon, 15 Jul 2024)
EndedAt: 2024-07-15 18:50:29 -0400 (Mon, 15 Jul 2024)
EllapsedTime: 130.3 seconds
RetCode: 0
Status: OK
PackageFile: kissDE_1.25.0.tar.gz
PackageFileSize: 860.1 <A href="http://en.wikipedia.org/wiki/KiB" target="_blank">KiB</A>