Package: kissDE Version: 1.26.0 Command: rm -rf kissDE.buildbin-libdir && mkdir kissDE.buildbin-libdir && F:\biocbuild\bbs-3.20-bioc\R\bin\R.exe CMD INSTALL --build --library=kissDE.buildbin-libdir kissDE_1.26.0.tar.gz StartedAt: 2025-02-04 08:47:37 -0500 (Tue, 04 Feb 2025) EndedAt: 2025-02-04 08:48:35 -0500 (Tue, 04 Feb 2025) EllapsedTime: 58.2 seconds RetCode: 0 Status: OK PackageFile: kissDE_1.26.0.zip PackageFileSize: 777.2 KiB