Package: kissDE
Version: 1.26.0
Command: F:\biocbuild\bbs-3.20-bioc\R\bin\R.exe CMD check --no-multiarch --install=check:kissDE.install-out.txt --library=F:\biocbuild\bbs-3.20-bioc\R\library --no-vignettes --timings kissDE_1.26.0.tar.gz
StartedAt: 2025-02-18 02:47:23 -0500 (Tue, 18 Feb 2025)
EndedAt: 2025-02-18 02:55:11 -0500 (Tue, 18 Feb 2025)
EllapsedTime: 467.7 seconds
RetCode: 0
Status: OK
CheckDir: kissDE.Rcheck
Warnings: 0