Package: kissDE
Version: 1.26.0
Command: /home/biocbuild/bbs-3.20-bioc/R/bin/R CMD INSTALL kissDE
StartedAt: 2024-11-19 17:08:16 -0500 (Tue, 19 Nov 2024)
EndedAt: 2024-11-19 17:08:53 -0500 (Tue, 19 Nov 2024)
EllapsedTime: 37.3 seconds
RetCode: 0
Status: OK