Package: knowYourCG Version: 1.2.5 Command: rm -rf knowYourCG.buildbin-libdir && mkdir knowYourCG.buildbin-libdir && /Users/biocbuild/BBS/utils/build-universal.sh knowYourCG_1.2.5.tar.gz /Library/Frameworks/R.framework/Resources/bin/R knowYourCG.buildbin-libdir StartedAt: 2025-02-19 15:42:28 -0500 (Wed, 19 Feb 2025) EndedAt: 2025-02-19 15:42:55 -0500 (Wed, 19 Feb 2025) EllapsedTime: 27.2 seconds RetCode: 0 Status: OK PackageFile: knowYourCG_1.2.5.tgz PackageFileSize: 11.05 <A href="http://en.wikipedia.org/wiki/MiB" target="_blank">MiB</A>