Package: knowYourCG Version: 1.2.5 Command: rm -rf knowYourCG.buildbin-libdir && mkdir knowYourCG.buildbin-libdir && /Users/biocbuild/BBS/utils/build-universal.sh knowYourCG_1.2.5.tar.gz /Library/Frameworks/R.framework/Resources/bin/R knowYourCG.buildbin-libdir StartedAt: 2025-02-04 13:15:55 -0500 (Tue, 04 Feb 2025) EndedAt: 2025-02-04 13:17:06 -0500 (Tue, 04 Feb 2025) EllapsedTime: 70.9 seconds RetCode: 0 Status: OK PackageFile: knowYourCG_1.2.5.tgz PackageFileSize: 11.05 MiB