Package: knowYourCG Version: 1.2.5 Command: /Library/Frameworks/R.framework/Resources/bin/R CMD INSTALL knowYourCG StartedAt: 2025-02-03 15:40:54 -0500 (Mon, 03 Feb 2025) EndedAt: 2025-02-03 15:41:33 -0500 (Mon, 03 Feb 2025) EllapsedTime: 39.5 seconds RetCode: 0 Status: OK