Package: knowYourCG
Version: 1.2.5
Command: /home/biocbuild/R/R/bin/R CMD build --keep-empty-dirs --no-resave-data knowYourCG
StartedAt: 2025-02-18 00:31:18 -0000 (Tue, 18 Feb 2025)
EndedAt: 2025-02-18 00:34:06 -0000 (Tue, 18 Feb 2025)
EllapsedTime: 168.1 seconds
RetCode: 0
Status: OK
PackageFile: knowYourCG_1.2.5.tar.gz
PackageFileSize: 12.84 <A href="http://en.wikipedia.org/wiki/MiB" target="_blank">MiB</A>