Package: koinar Version: 1.0.2 Command: /Library/Frameworks/R.framework/Resources/bin/R CMD check --install=check:koinar.install-out.txt --library=/Library/Frameworks/R.framework/Resources/library --no-vignettes --timings koinar_1.0.2.tar.gz StartedAt: 2025-02-18 05:00:56 -0500 (Tue, 18 Feb 2025) EndedAt: 2025-02-18 05:01:53 -0500 (Tue, 18 Feb 2025) EllapsedTime: 57.4 seconds RetCode: 0 Status: OK CheckDir: koinar.Rcheck Warnings: 0