Package: koinar Version: 1.0.2 Command: chmod a+r koinar -R && F:\biocbuild\bbs-3.20-bioc\R\bin\R.exe CMD build --keep-empty-dirs --no-resave-data koinar StartedAt: 2025-02-03 20:01:20 -0500 (Mon, 03 Feb 2025) EndedAt: 2025-02-03 20:02:13 -0500 (Mon, 03 Feb 2025) EllapsedTime: 52.5 seconds RetCode: 0 Status: OK PackageFile: koinar_1.0.2.tar.gz PackageFileSize: 781.2 KiB