Package: lapmix Version: 1.72.0 Command: /Library/Frameworks/R.framework/Resources/bin/R CMD build --keep-empty-dirs --no-resave-data lapmix StartedAt: 2025-02-04 02:14:31 -0500 (Tue, 04 Feb 2025) EndedAt: 2025-02-04 02:14:43 -0500 (Tue, 04 Feb 2025) EllapsedTime: 11.5 seconds RetCode: 0 Status: OK PackageFile: lapmix_1.72.0.tar.gz PackageFileSize: 349.5 KiB