Package: lapmix Version: 1.72.0 Command: /home/biocbuild/bbs-3.20-bioc/R/bin/R CMD INSTALL lapmix StartedAt: 2025-02-03 15:16:47 -0500 (Mon, 03 Feb 2025) EndedAt: 2025-02-03 15:16:49 -0500 (Mon, 03 Feb 2025) EllapsedTime: 2.4 seconds RetCode: 0 Status: OK