Package: ldblock Version: 1.36.0 Command: /Library/Frameworks/R.framework/Resources/bin/R CMD check --install=check:ldblock.install-out.txt --library=/Library/Frameworks/R.framework/Resources/library --no-vignettes --timings ldblock_1.36.0.tar.gz StartedAt: 2025-02-04 05:34:26 -0500 (Tue, 04 Feb 2025) EndedAt: 2025-02-04 05:37:25 -0500 (Tue, 04 Feb 2025) EllapsedTime: 178.7 seconds RetCode: 0 Status: OK CheckDir: ldblock.Rcheck Warnings: 0