Package: ldblock Version: 1.36.0 Command: /Library/Frameworks/R.framework/Resources/bin/R CMD INSTALL ldblock StartedAt: 2025-02-03 15:19:27 -0500 (Mon, 03 Feb 2025) EndedAt: 2025-02-03 15:19:49 -0500 (Mon, 03 Feb 2025) EllapsedTime: 22.1 seconds RetCode: 0 Status: OK