Package: ldblock Version: 1.36.0 Command: /home/biocbuild/bbs-3.20-bioc/R/bin/R CMD build --keep-empty-dirs --no-resave-data --md5 ldblock StartedAt: 2025-02-03 17:59:00 -0500 (Mon, 03 Feb 2025) EndedAt: 2025-02-03 17:59:45 -0500 (Mon, 03 Feb 2025) EllapsedTime: 44.1 seconds RetCode: 0 Status: OK PackageFile: ldblock_1.36.0.tar.gz PackageFileSize: 40.1 MiB