Package: ldblock Version: 1.36.0 Command: /home/biocbuild/bbs-3.20-bioc/R/bin/R CMD check --install=check:ldblock.install-out.txt --library=/home/biocbuild/bbs-3.20-bioc/R/site-library --timings ldblock_1.36.0.tar.gz StartedAt: 2025-02-03 23:37:14 -0500 (Mon, 03 Feb 2025) EndedAt: 2025-02-03 23:39:06 -0500 (Mon, 03 Feb 2025) EllapsedTime: 112.1 seconds RetCode: 0 Status: OK CheckDir: ldblock.Rcheck Warnings: 0