Package: ldblock Version: 1.36.0 Command: /home/biocbuild/bbs-3.20-bioc/R/bin/R CMD INSTALL ldblock StartedAt: 2025-02-03 15:18:18 -0500 (Mon, 03 Feb 2025) EndedAt: 2025-02-03 15:18:32 -0500 (Mon, 03 Feb 2025) EllapsedTime: 14.6 seconds RetCode: 0 Status: OK