Package: ldblock Version: 1.36.0 Command: rm -rf ldblock.buildbin-libdir && mkdir ldblock.buildbin-libdir && F:\biocbuild\bbs-3.20-bioc\R\bin\R.exe CMD INSTALL --build --library=ldblock.buildbin-libdir ldblock_1.36.0.tar.gz StartedAt: 2025-02-04 08:48:07 -0500 (Tue, 04 Feb 2025) EndedAt: 2025-02-04 08:48:27 -0500 (Tue, 04 Feb 2025) EllapsedTime: 19.8 seconds RetCode: 0 Status: OK PackageFile: ldblock_1.36.0.zip PackageFileSize: 40.17 MiB