Package: ldblock Version: 1.36.0 Command: chmod a+r ldblock -R && F:\biocbuild\bbs-3.20-bioc\R\bin\R.exe CMD build --keep-empty-dirs --no-resave-data ldblock StartedAt: 2025-02-03 20:01:41 -0500 (Mon, 03 Feb 2025) EndedAt: 2025-02-03 20:02:47 -0500 (Mon, 03 Feb 2025) EllapsedTime: 66.1 seconds RetCode: 0 Status: OK PackageFile: ldblock_1.36.0.tar.gz PackageFileSize: 40.04 MiB