Package: lefser Version: 1.16.0 Command: /Library/Frameworks/R.framework/Resources/bin/R CMD check --install=check:lefser.install-out.txt --library=/Library/Frameworks/R.framework/Resources/library --no-vignettes --timings lefser_1.16.0.tar.gz StartedAt: 2025-02-04 23:52:05 -0500 (Tue, 04 Feb 2025) EndedAt: 2025-02-04 23:56:42 -0500 (Tue, 04 Feb 2025) EllapsedTime: 277.1 seconds RetCode: 0 Status: WARNINGS CheckDir: lefser.Rcheck Warnings: 1