Package: lefser Version: 1.16.0 Command: /home/biocbuild/R/R/bin/R CMD check --install=check:lefser.install-out.txt --library=/home/biocbuild/R/R/site-library --no-vignettes --timings lefser_1.16.0.tar.gz StartedAt: 2025-02-04 08:18:33 -0000 (Tue, 04 Feb 2025) EndedAt: 2025-02-04 08:23:34 -0000 (Tue, 04 Feb 2025) EllapsedTime: 301.6 seconds RetCode: 0 Status: WARNINGS CheckDir: lefser.Rcheck Warnings: 1